BEGIN:VCALENDAR
VERSION:2.0
PRODID:-//Medway Yacht Club - ECPv6.15.20//NONSGML v1.0//EN
CALSCALE:GREGORIAN
METHOD:PUBLISH
X-ORIGINAL-URL:https://www.medwayyachtclub.com
X-WR-CALDESC:Events for Medway Yacht Club
REFRESH-INTERVAL;VALUE=DURATION:PT1H
X-Robots-Tag:noindex
X-PUBLISHED-TTL:PT1H
BEGIN:VTIMEZONE
TZID:Europe/London
BEGIN:DAYLIGHT
TZOFFSETFROM:+0000
TZOFFSETTO:+0100
TZNAME:BST
DTSTART:20230326T010000
END:DAYLIGHT
BEGIN:STANDARD
TZOFFSETFROM:+0100
TZOFFSETTO:+0000
TZNAME:GMT
DTSTART:20231029T010000
END:STANDARD
BEGIN:DAYLIGHT
TZOFFSETFROM:+0000
TZOFFSETTO:+0100
TZNAME:BST
DTSTART:20240331T010000
END:DAYLIGHT
BEGIN:STANDARD
TZOFFSETFROM:+0100
TZOFFSETTO:+0000
TZNAME:GMT
DTSTART:20241027T010000
END:STANDARD
BEGIN:DAYLIGHT
TZOFFSETFROM:+0000
TZOFFSETTO:+0100
TZNAME:BST
DTSTART:20250330T010000
END:DAYLIGHT
BEGIN:STANDARD
TZOFFSETFROM:+0100
TZOFFSETTO:+0000
TZNAME:GMT
DTSTART:20251026T010000
END:STANDARD
END:VTIMEZONE
BEGIN:VEVENT
DTSTART;TZID=Europe/London:20240530T193000
DTEND;TZID=Europe/London:20240530T213000
DTSTAMP:20260424T071618
CREATED:20240322T142901Z
LAST-MODIFIED:20240322T142901Z
UID:24471-1717097400-1717104600@www.medwayyachtclub.com
SUMMARY:Management Committee Meeting
DESCRIPTION:
URL:https://www.medwayyachtclub.com/event/management-committee-meeting-2/
CATEGORIES:Room Hire
END:VEVENT
BEGIN:VEVENT
DTSTART;TZID=Europe/London:20240531T160000
DTEND;TZID=Europe/London:20240531T210000
DTSTAMP:20260424T071618
CREATED:20241206T124907Z
LAST-MODIFIED:20241206T125018Z
UID:26956-1717171200-1717189200@www.medwayyachtclub.com
SUMMARY:Medway Barge Match
DESCRIPTION:Prize giving
URL:https://www.medwayyachtclub.com/event/medway-barge-match-2/
CATEGORIES:External
END:VEVENT
END:VCALENDAR